BEGIN:VCALENDAR
VERSION:2.0
PRODID:-//ユナイテッド - ECPv6.15.20//NONSGML v1.0//EN
CALSCALE:GREGORIAN
METHOD:PUBLISH
X-ORIGINAL-URL:https://mikawautd.com
X-WR-CALDESC:ユナイテッド のイベント
REFRESH-INTERVAL;VALUE=DURATION:PT1H
X-Robots-Tag:noindex
X-PUBLISHED-TTL:PT1H
BEGIN:VTIMEZONE
TZID:Asia/Tokyo
BEGIN:STANDARD
TZOFFSETFROM:+0900
TZOFFSETTO:+0900
TZNAME:JST
DTSTART:20250101T000000
END:STANDARD
END:VTIMEZONE
BEGIN:VEVENT
DTSTART;TZID=Asia/Tokyo:20260601T163000
DTEND;TZID=Asia/Tokyo:20260601T180000
DTSTAMP:20260425T224251
CREATED:20260423T024607Z
LAST-MODIFIED:20260423T024607Z
UID:15552-1780331400-1780336800@mikawautd.com
SUMMARY:6月1日(月)中学生
DESCRIPTION:トレアカ \nトレーニングアカデミー◽️◽️◽️TA\n時間：16:30〜18:00\n学年：中学1年生〜中学3年生\n曜日：月曜日・木曜日
URL:https://mikawautd.com/calendar/6%e6%9c%881%e6%97%a5%e6%9c%88%e4%b8%ad%e5%ad%a6%e7%94%9f/
LOCATION:龍北サッカー場【FR】\, 真伝町亀山12-2\, 岡崎市\, 愛知県\, 444-3174
CATEGORIES:トレアカ
ORGANIZER;CN="iMA sport agent":MAILTO:ima.sportsagent@gmail.com
END:VEVENT
BEGIN:VEVENT
DTSTART;TZID=Asia/Tokyo:20260602T163000
DTEND;TZID=Asia/Tokyo:20260602T180000
DTSTAMP:20260425T224251
CREATED:20260423T025225Z
LAST-MODIFIED:20260423T025225Z
UID:15560-1780417800-1780423200@mikawautd.com
SUMMARY:6月2日(火)BS/SS
DESCRIPTION:ボールスクール / サッカースクール \nボールスクール◽️◽️◽️BS\n時間：16:00〜16:45\n学年：幼児〜小学1年生\n曜日：火曜日 \nサッカースクール◽️◽️◽️SS\n時間：16:45〜18:00\n学年：小学1年生〜小学6年生\n曜日：火曜日・木曜日
URL:https://mikawautd.com/calendar/6%e6%9c%882%e6%97%a5%e7%81%abbs-ss/
LOCATION:龍北サッカー場【FR】\, 真伝町亀山12-2\, 岡崎市\, 愛知県\, 444-3174
CATEGORIES:サッカースクール,ボールスクール
ORGANIZER;CN="iMA sport agent":MAILTO:ima.sportsagent@gmail.com
END:VEVENT
BEGIN:VEVENT
DTSTART;TZID=Asia/Tokyo:20260604T163000
DTEND;TZID=Asia/Tokyo:20260604T180000
DTSTAMP:20260425T224251
CREATED:20260423T025607Z
LAST-MODIFIED:20260423T025607Z
UID:15569-1780590600-1780596000@mikawautd.com
SUMMARY:6月4日(木)SS/中学生
DESCRIPTION:サッカースクール / トレアカ \nサッカースクール◽️◽️◽️SS\n時間：16:45〜18:00\n学年：小学1年生〜小学6年生\n曜日：火曜日・木曜日 \nトレーニングアカデミー◽️◽️◽️TA\n時間：16:30〜18:00\n学年：中学1年生〜中学3年生\n曜日：月曜日・木曜日
URL:https://mikawautd.com/calendar/6%e6%9c%884%e6%97%a5%e6%9c%a8ss-%e4%b8%ad%e5%ad%a6%e7%94%9f/
LOCATION:龍北サッカー場【FR】\, 真伝町亀山12-2\, 岡崎市\, 愛知県\, 444-3174
CATEGORIES:サッカースクール,トレアカ
ORGANIZER;CN="iMA sport agent":MAILTO:ima.sportsagent@gmail.com
END:VEVENT
BEGIN:VEVENT
DTSTART;TZID=Asia/Tokyo:20260608T163000
DTEND;TZID=Asia/Tokyo:20260608T180000
DTSTAMP:20260425T224251
CREATED:20260423T024608Z
LAST-MODIFIED:20260423T024608Z
UID:15553-1780936200-1780941600@mikawautd.com
SUMMARY:6月8日(月)中学生
DESCRIPTION:トレアカ \nトレーニングアカデミー◽️◽️◽️TA\n時間：16:30〜18:00\n学年：中学1年生〜中学3年生\n曜日：月曜日・木曜日
URL:https://mikawautd.com/calendar/6%e6%9c%888%e6%97%a5%e6%9c%88%e4%b8%ad%e5%ad%a6%e7%94%9f/
LOCATION:龍北サッカー場【FR】\, 真伝町亀山12-2\, 岡崎市\, 愛知県\, 444-3174
CATEGORIES:トレアカ
ORGANIZER;CN="iMA sport agent":MAILTO:ima.sportsagent@gmail.com
END:VEVENT
BEGIN:VEVENT
DTSTART;TZID=Asia/Tokyo:20260609T163000
DTEND;TZID=Asia/Tokyo:20260609T180000
DTSTAMP:20260425T224251
CREATED:20260423T025227Z
LAST-MODIFIED:20260423T025227Z
UID:15561-1781022600-1781028000@mikawautd.com
SUMMARY:6月9日(火)BS/SS
DESCRIPTION:ボールスクール / サッカースクール \nボールスクール◽️◽️◽️BS\n時間：16:00〜16:45\n学年：幼児〜小学1年生\n曜日：火曜日 \nサッカースクール◽️◽️◽️SS\n時間：16:45〜18:00\n学年：小学1年生〜小学6年生\n曜日：火曜日・木曜日
URL:https://mikawautd.com/calendar/6%e6%9c%889%e6%97%a5%e7%81%abbs-ss/
LOCATION:龍北サッカー場【FR】\, 真伝町亀山12-2\, 岡崎市\, 愛知県\, 444-3174
CATEGORIES:サッカースクール,ボールスクール
END:VEVENT
BEGIN:VEVENT
DTSTART;TZID=Asia/Tokyo:20260611T163000
DTEND;TZID=Asia/Tokyo:20260611T180000
DTSTAMP:20260425T224251
CREATED:20260423T025609Z
LAST-MODIFIED:20260423T025609Z
UID:15571-1781195400-1781200800@mikawautd.com
SUMMARY:6月11日(木)SS/中学生
DESCRIPTION:サッカースクール / トレアカ \nサッカースクール◽️◽️◽️SS\n時間：16:45〜18:00\n学年：小学1年生〜小学6年生\n曜日：火曜日・木曜日 \nトレーニングアカデミー◽️◽️◽️TA\n時間：16:30〜18:00\n学年：中学1年生〜中学3年生\n曜日：月曜日・木曜日
URL:https://mikawautd.com/calendar/6%e6%9c%8811%e6%97%a5%e6%9c%a8ss-%e4%b8%ad%e5%ad%a6%e7%94%9f/
LOCATION:龍北サッカー場【FR】\, 真伝町亀山12-2\, 岡崎市\, 愛知県\, 444-3174
CATEGORIES:サッカースクール,トレアカ
ORGANIZER;CN="iMA sport agent":MAILTO:ima.sportsagent@gmail.com
END:VEVENT
BEGIN:VEVENT
DTSTART;TZID=Asia/Tokyo:20260615T163000
DTEND;TZID=Asia/Tokyo:20260615T180000
DTSTAMP:20260425T224251
CREATED:20260423T024610Z
LAST-MODIFIED:20260423T024610Z
UID:15554-1781541000-1781546400@mikawautd.com
SUMMARY:6月15日(月)中学生
DESCRIPTION:トレアカ \nトレーニングアカデミー◽️◽️◽️TA\n時間：16:30〜18:00\n学年：中学1年生〜中学3年生\n曜日：月曜日・木曜日
URL:https://mikawautd.com/calendar/6%e6%9c%8815%e6%97%a5%e6%9c%88%e4%b8%ad%e5%ad%a6%e7%94%9f/
LOCATION:龍北サッカー場【FR】\, 真伝町亀山12-2\, 岡崎市\, 愛知県\, 444-3174
CATEGORIES:トレアカ
END:VEVENT
BEGIN:VEVENT
DTSTART;TZID=Asia/Tokyo:20260616T163000
DTEND;TZID=Asia/Tokyo:20260616T180000
DTSTAMP:20260425T224251
CREATED:20260423T025229Z
LAST-MODIFIED:20260423T025229Z
UID:15564-1781627400-1781632800@mikawautd.com
SUMMARY:6月16日(火)BS/SS
DESCRIPTION:ボールスクール / サッカースクール \nボールスクール◽️◽️◽️BS\n時間：16:00〜16:45\n学年：幼児〜小学1年生\n曜日：火曜日 \nサッカースクール◽️◽️◽️SS\n時間：16:45〜18:00\n学年：小学1年生〜小学6年生\n曜日：火曜日・木曜日
URL:https://mikawautd.com/calendar/6%e6%9c%8816%e6%97%a5%e7%81%abbs-ss/
LOCATION:龍北サッカー場【FR】\, 真伝町亀山12-2\, 岡崎市\, 愛知県\, 444-3174
CATEGORIES:サッカースクール,ボールスクール
ORGANIZER;CN="iMA sport agent":MAILTO:ima.sportsagent@gmail.com
END:VEVENT
BEGIN:VEVENT
DTSTART;TZID=Asia/Tokyo:20260618T163000
DTEND;TZID=Asia/Tokyo:20260618T180000
DTSTAMP:20260425T224251
CREATED:20260423T025611Z
LAST-MODIFIED:20260423T025611Z
UID:15572-1781800200-1781805600@mikawautd.com
SUMMARY:6月18日(木)SS/中学生
DESCRIPTION:サッカースクール / トレアカ \nサッカースクール◽️◽️◽️SS\n時間：16:45〜18:00\n学年：小学1年生〜小学6年生\n曜日：火曜日・木曜日 \nトレーニングアカデミー◽️◽️◽️TA\n時間：16:30〜18:00\n学年：中学1年生〜中学3年生\n曜日：月曜日・木曜日
URL:https://mikawautd.com/calendar/6%e6%9c%8818%e6%97%a5%e6%9c%a8ss-%e4%b8%ad%e5%ad%a6%e7%94%9f/
LOCATION:龍北サッカー場【FR】\, 真伝町亀山12-2\, 岡崎市\, 愛知県\, 444-3174
CATEGORIES:サッカースクール,トレアカ
ORGANIZER;CN="iMA sport agent":MAILTO:ima.sportsagent@gmail.com
END:VEVENT
BEGIN:VEVENT
DTSTART;TZID=Asia/Tokyo:20260622T163000
DTEND;TZID=Asia/Tokyo:20260622T180000
DTSTAMP:20260425T224251
CREATED:20260423T024613Z
LAST-MODIFIED:20260423T024613Z
UID:15555-1782145800-1782151200@mikawautd.com
SUMMARY:6月22日(月)中学生
DESCRIPTION:トレアカ \nトレーニングアカデミー◽️◽️◽️TA\n時間：16:30〜18:00\n学年：中学1年生〜中学3年生\n曜日：月曜日・木曜日
URL:https://mikawautd.com/calendar/6%e6%9c%8822%e6%97%a5%e6%9c%88%e4%b8%ad%e5%ad%a6%e7%94%9f/
LOCATION:龍北サッカー場【FR】\, 真伝町亀山12-2\, 岡崎市\, 愛知県\, 444-3174
CATEGORIES:トレアカ
ORGANIZER;CN="iMA sport agent":MAILTO:ima.sportsagent@gmail.com
END:VEVENT
BEGIN:VEVENT
DTSTART;TZID=Asia/Tokyo:20260623T163000
DTEND;TZID=Asia/Tokyo:20260623T180000
DTSTAMP:20260425T224251
CREATED:20260423T025232Z
LAST-MODIFIED:20260423T025232Z
UID:15563-1782232200-1782237600@mikawautd.com
SUMMARY:6月23日(火)BS/SS
DESCRIPTION:ボールスクール / サッカースクール \nボールスクール◽️◽️◽️BS\n時間：16:00〜16:45\n学年：幼児〜小学1年生\n曜日：火曜日 \nサッカースクール◽️◽️◽️SS\n時間：16:45〜18:00\n学年：小学1年生〜小学6年生\n曜日：火曜日・木曜日
URL:https://mikawautd.com/calendar/6%e6%9c%8823%e6%97%a5%e7%81%abbs-ss/
LOCATION:龍北サッカー場【FR】\, 真伝町亀山12-2\, 岡崎市\, 愛知県\, 444-3174
CATEGORIES:サッカースクール,ボールスクール
ORGANIZER;CN="iMA sport agent":MAILTO:ima.sportsagent@gmail.com
END:VEVENT
END:VCALENDAR