BEGIN:VCALENDAR
VERSION:2.0
PRODID:-//ユナイテッド - ECPv6.15.20//NONSGML v1.0//EN
CALSCALE:GREGORIAN
METHOD:PUBLISH
X-WR-CALNAME:ユナイテッド
X-ORIGINAL-URL:https://mikawautd.com
X-WR-CALDESC:ユナイテッド のイベント
REFRESH-INTERVAL;VALUE=DURATION:PT1H
X-Robots-Tag:noindex
X-PUBLISHED-TTL:PT1H
BEGIN:VTIMEZONE
TZID:Asia/Tokyo
BEGIN:STANDARD
TZOFFSETFROM:+0900
TZOFFSETTO:+0900
TZNAME:JST
DTSTART:20250101T000000
END:STANDARD
END:VTIMEZONE
BEGIN:VEVENT
DTSTART;TZID=Asia/Tokyo:20260511T163000
DTEND;TZID=Asia/Tokyo:20260511T180000
DTSTAMP:20260425T213036
CREATED:20260423T023321Z
LAST-MODIFIED:20260423T023321Z
UID:15534-1778517000-1778522400@mikawautd.com
SUMMARY:5月11日(月)中学生
DESCRIPTION:トレアカ \nトレーニングアカデミー◽️◽️◽️TA\n時間：16:30〜18:00\n学年：中学1年生〜中学3年生\n曜日：月曜日・木曜日
URL:https://mikawautd.com/calendar/5%e6%9c%8811%e6%97%a5%e6%9c%88%e4%b8%ad%e5%ad%a6%e7%94%9f/
LOCATION:龍北サッカー場【FR】\, 真伝町亀山12-2\, 岡崎市\, 愛知県\, 444-3174
CATEGORIES:トレアカ
ORGANIZER;CN="iMA sport agent":MAILTO:ima.sportsagent@gmail.com
END:VEVENT
BEGIN:VEVENT
DTSTART;TZID=Asia/Tokyo:20260512T080000
DTEND;TZID=Asia/Tokyo:20260512T170000
DTSTAMP:20260425T213036
CREATED:20260423T023732Z
LAST-MODIFIED:20260423T023732Z
UID:15540-1778572800-1778605200@mikawautd.com
SUMMARY:5月12日(火)BS/SS
DESCRIPTION:ボールスクール / サッカースクール \nボールスクール◽️◽️◽️BS\n時間：16:00〜16:45\n学年：幼児〜小学1年生\n曜日：火曜日 \nサッカースクール◽️◽️◽️SS\n時間：16:45〜18:00\n学年：小学1年生〜小学6年生\n曜日：火曜日・木曜日
URL:https://mikawautd.com/calendar/5%e6%9c%8812%e6%97%a5%e7%81%abbs-ss/
LOCATION:龍北サッカー場【FR】\, 真伝町亀山12-2\, 岡崎市\, 愛知県\, 444-3174
CATEGORIES:サッカースクール,ボールスクール
ORGANIZER;CN="iMA sport agent":MAILTO:ima.sportsagent@gmail.com
END:VEVENT
BEGIN:VEVENT
DTSTART;TZID=Asia/Tokyo:20260514T163000
DTEND;TZID=Asia/Tokyo:20260514T180000
DTSTAMP:20260425T213036
CREATED:20260423T024145Z
LAST-MODIFIED:20260423T024145Z
UID:15546-1778776200-1778781600@mikawautd.com
SUMMARY:5月14日(木)SS/中学生
DESCRIPTION:サッカースクール / トレアカ \nサッカースクール◽️◽️◽️SS\n時間：16:45〜18:00\n学年：小学1年生〜小学6年生\n曜日：火曜日・木曜日 \nトレーニングアカデミー◽️◽️◽️TA\n時間：16:30〜18:00\n学年：中学1年生〜中学3年生\n曜日：月曜日・木曜日
URL:https://mikawautd.com/calendar/5%e6%9c%8814%e6%97%a5%e6%9c%a8ss-%e4%b8%ad%e5%ad%a6%e7%94%9f/
LOCATION:龍北サッカー場【FR】\, 真伝町亀山12-2\, 岡崎市\, 愛知県\, 444-3174
CATEGORIES:サッカースクール,トレアカ
ORGANIZER;CN="iMA sport agent":MAILTO:ima.sportsagent@gmail.com
END:VEVENT
BEGIN:VEVENT
DTSTART;TZID=Asia/Tokyo:20260518T163000
DTEND;TZID=Asia/Tokyo:20260518T180000
DTSTAMP:20260425T213036
CREATED:20260423T023323Z
LAST-MODIFIED:20260423T023323Z
UID:15535-1779121800-1779127200@mikawautd.com
SUMMARY:5月18日(月)中学生
DESCRIPTION:トレアカ \nトレーニングアカデミー◽️◽️◽️TA\n時間：16:30〜18:00\n学年：中学1年生〜中学3年生\n曜日：月曜日・木曜日
URL:https://mikawautd.com/calendar/5%e6%9c%8818%e6%97%a5%e6%9c%88%e4%b8%ad%e5%ad%a6%e7%94%9f/
LOCATION:龍北サッカー場【FR】\, 真伝町亀山12-2\, 岡崎市\, 愛知県\, 444-3174
CATEGORIES:トレアカ
ORGANIZER;CN="iMA sport agent":MAILTO:ima.sportsagent@gmail.com
END:VEVENT
BEGIN:VEVENT
DTSTART;TZID=Asia/Tokyo:20260519T163000
DTEND;TZID=Asia/Tokyo:20260519T180000
DTSTAMP:20260425T213036
CREATED:20260423T023735Z
LAST-MODIFIED:20260423T023735Z
UID:15541-1779208200-1779213600@mikawautd.com
SUMMARY:5月19日(火)BS/SS
DESCRIPTION:ボールスクール / サッカースクール \nボールスクール◽️◽️◽️BS\n時間：16:00〜16:45\n学年：幼児〜小学1年生\n曜日：火曜日 \nサッカースクール◽️◽️◽️SS\n時間：16:45〜18:00\n学年：小学1年生〜小学6年生\n曜日：火曜日・木曜日
URL:https://mikawautd.com/calendar/5%e6%9c%8819%e6%97%a5%e7%81%abbs-ss/
LOCATION:龍北サッカー場【FR】\, 真伝町亀山12-2\, 岡崎市\, 愛知県\, 444-3174
CATEGORIES:サッカースクール,ボールスクール
ORGANIZER;CN="iMA sport agent":MAILTO:ima.sportsagent@gmail.com
END:VEVENT
BEGIN:VEVENT
DTSTART;TZID=Asia/Tokyo:20260521T163000
DTEND;TZID=Asia/Tokyo:20260521T180000
DTSTAMP:20260425T213036
CREATED:20260423T024147Z
LAST-MODIFIED:20260423T024147Z
UID:15547-1779381000-1779386400@mikawautd.com
SUMMARY:5月21日(木)SS/中学生
DESCRIPTION:サッカースクール / トレアカ \nサッカースクール◽️◽️◽️SS\n時間：16:45〜18:00\n学年：小学1年生〜小学6年生\n曜日：火曜日・木曜日 \nトレーニングアカデミー◽️◽️◽️TA\n時間：16:30〜18:00\n学年：中学1年生〜中学3年生\n曜日：月曜日・木曜日
URL:https://mikawautd.com/calendar/5%e6%9c%8821%e6%97%a5%e6%9c%a8ss-%e4%b8%ad%e5%ad%a6%e7%94%9f/
LOCATION:龍北サッカー場【FR】\, 真伝町亀山12-2\, 岡崎市\, 愛知県\, 444-3174
CATEGORIES:サッカースクール,トレアカ
ORGANIZER;CN="iMA sport agent":MAILTO:ima.sportsagent@gmail.com
END:VEVENT
BEGIN:VEVENT
DTSTART;TZID=Asia/Tokyo:20260525T163000
DTEND;TZID=Asia/Tokyo:20260525T180000
DTSTAMP:20260425T213036
CREATED:20260423T023326Z
LAST-MODIFIED:20260423T023326Z
UID:15536-1779726600-1779732000@mikawautd.com
SUMMARY:5月25日(月)中学生
DESCRIPTION:トレアカ \nトレーニングアカデミー◽️◽️◽️TA\n時間：16:30〜18:00\n学年：中学1年生〜中学3年生\n曜日：月曜日・木曜日
URL:https://mikawautd.com/calendar/5%e6%9c%8825%e6%97%a5%e6%9c%88%e4%b8%ad%e5%ad%a6%e7%94%9f/
LOCATION:龍北サッカー場【FR】\, 真伝町亀山12-2\, 岡崎市\, 愛知県\, 444-3174
CATEGORIES:トレアカ
ORGANIZER;CN="iMA sport agent":MAILTO:ima.sportsagent@gmail.com
END:VEVENT
BEGIN:VEVENT
DTSTART;TZID=Asia/Tokyo:20260526T163000
DTEND;TZID=Asia/Tokyo:20260526T180000
DTSTAMP:20260425T213036
CREATED:20260423T023737Z
LAST-MODIFIED:20260423T023737Z
UID:15542-1779813000-1779818400@mikawautd.com
SUMMARY:5月26日(火)BS/SS
DESCRIPTION:ボールスクール / サッカースクール \nボールスクール◽️◽️◽️BS\n時間：16:00〜16:45\n学年：幼児〜小学1年生\n曜日：火曜日 \nサッカースクール◽️◽️◽️SS\n時間：16:45〜18:00\n学年：小学1年生〜小学6年生\n曜日：火曜日・木曜日
URL:https://mikawautd.com/calendar/5%e6%9c%8826%e6%97%a5%e7%81%abbs-ss/
LOCATION:龍北サッカー場【FR】\, 真伝町亀山12-2\, 岡崎市\, 愛知県\, 444-3174
CATEGORIES:サッカースクール,ボールスクール
ORGANIZER;CN="iMA sport agent":MAILTO:ima.sportsagent@gmail.com
END:VEVENT
BEGIN:VEVENT
DTSTART;TZID=Asia/Tokyo:20260528T163000
DTEND;TZID=Asia/Tokyo:20260528T180000
DTSTAMP:20260425T213036
CREATED:20260423T024150Z
LAST-MODIFIED:20260423T024150Z
UID:15548-1779985800-1779991200@mikawautd.com
SUMMARY:5月28日(木)SS/中学生
DESCRIPTION:サッカースクール / トレアカ \nサッカースクール◽️◽️◽️SS\n時間：16:45〜18:00\n学年：小学1年生〜小学6年生\n曜日：火曜日・木曜日 \nトレーニングアカデミー◽️◽️◽️TA\n時間：16:30〜18:00\n学年：中学1年生〜中学3年生\n曜日：月曜日・木曜日
URL:https://mikawautd.com/calendar/5%e6%9c%8828%e6%97%a5%e6%9c%a8ss-%e4%b8%ad%e5%ad%a6%e7%94%9f/
LOCATION:龍北サッカー場【FR】\, 真伝町亀山12-2\, 岡崎市\, 愛知県\, 444-3174
CATEGORIES:サッカースクール,トレアカ
ORGANIZER;CN="iMA sport agent":MAILTO:ima.sportsagent@gmail.com
END:VEVENT
END:VCALENDAR