BEGIN:VCALENDAR
VERSION:2.0
PRODID:-//ユナイテッド - ECPv6.15.20//NONSGML v1.0//EN
CALSCALE:GREGORIAN
METHOD:PUBLISH
X-WR-CALNAME:ユナイテッド
X-ORIGINAL-URL:https://mikawautd.com
X-WR-CALDESC:ユナイテッド のイベント
REFRESH-INTERVAL;VALUE=DURATION:PT1H
X-Robots-Tag:noindex
X-PUBLISHED-TTL:PT1H
BEGIN:VTIMEZONE
TZID:Asia/Tokyo
BEGIN:STANDARD
TZOFFSETFROM:+0900
TZOFFSETTO:+0900
TZNAME:JST
DTSTART:20250101T000000
END:STANDARD
END:VTIMEZONE
BEGIN:VEVENT
DTSTART;TZID=Asia/Tokyo:20260202T163000
DTEND;TZID=Asia/Tokyo:20260202T180000
DTSTAMP:20260425T225351
CREATED:20260117T112731Z
LAST-MODIFIED:20260117T113914Z
UID:14712-1770049800-1770055200@mikawautd.com
SUMMARY:2月2日(月)中学生
DESCRIPTION:トレアカ \nトレーニングアカデミー◽️◽️◽️TA\n時間：16:30〜18:00\n学年：中学1年生〜中学3年生\n曜日：月曜日・木曜日
URL:https://mikawautd.com/calendar/2%e6%9c%882%e6%97%a5%e6%9c%88/
LOCATION:愛知県
CATEGORIES:トレアカ
ORGANIZER;CN="iMA sport agent":MAILTO:ima.sportsagent@gmail.com
END:VEVENT
BEGIN:VEVENT
DTSTART;TZID=Asia/Tokyo:20260203T160000
DTEND;TZID=Asia/Tokyo:20260203T180000
DTSTAMP:20260425T225351
CREATED:20260117T114356Z
LAST-MODIFIED:20260117T114752Z
UID:14731-1770134400-1770141600@mikawautd.com
SUMMARY:2月3日(火)BS/SS
DESCRIPTION:ボールスクール / サッカースクール \nボールスクール◽️◽️◽️BS\n時間：16:00〜16:45\n学年：幼児〜小学1年生\n曜日：火曜日 \nサッカースクール◽️◽️◽️SS\n時間：16:30〜18:00\n学年：小学1年生〜小学6年生\n曜日：火曜日・木曜日
URL:https://mikawautd.com/calendar/2%e6%9c%883%e6%97%a5%e7%81%abbs-ss/
LOCATION:龍北サッカー場【FR】\, 真伝町亀山12-2\, 岡崎市\, 愛知県\, 444-3174
CATEGORIES:サッカースクール,ボールスクール
ORGANIZER;CN="iMA sport agent":MAILTO:ima.sportsagent@gmail.com
END:VEVENT
BEGIN:VEVENT
DTSTART;TZID=Asia/Tokyo:20260205T163000
DTEND;TZID=Asia/Tokyo:20260205T180000
DTSTAMP:20260425T225351
CREATED:20260117T115122Z
LAST-MODIFIED:20260117T115122Z
UID:14747-1770309000-1770314400@mikawautd.com
SUMMARY:2月5日(木)SS/中学生
DESCRIPTION:サッカースクール / トレアカ \nサッカースクール◽️◽️◽️SS\n時間：16:30〜18:00\n学年：小学1年生〜小学6年生\n曜日：火曜日・木曜日 \nトレーニングアカデミー◽️◽️◽️TA\n時間：16:30〜18:00\n学年：中学1年生〜中学3年生\n曜日：月曜日・木曜日
URL:https://mikawautd.com/calendar/2%e6%9c%885%e6%97%a5%e6%9c%a8ss-%e4%b8%ad%e5%ad%a6%e7%94%9f/
LOCATION:龍北サッカー場【FR】\, 真伝町亀山12-2\, 岡崎市\, 愛知県\, 444-3174
CATEGORIES:サッカースクール,トレアカ
ORGANIZER;CN="iMA sport agent":MAILTO:ima.sportsagent@gmail.com
END:VEVENT
BEGIN:VEVENT
DTSTART;TZID=Asia/Tokyo:20260209T163000
DTEND;TZID=Asia/Tokyo:20260209T180000
DTSTAMP:20260425T225351
CREATED:20260117T112827Z
LAST-MODIFIED:20260117T114035Z
UID:14721-1770654600-1770660000@mikawautd.com
SUMMARY:2月9日(月)中学生
DESCRIPTION:トレアカ \nトレーニングアカデミー◽️◽️◽️TA\n時間：16:30〜18:00\n学年：中学1年生〜中学3年生\n曜日：月曜日・木曜日
URL:https://mikawautd.com/calendar/2%e6%9c%889%e6%97%a5%e6%9c%88/
LOCATION:龍北サッカー場【FR】\, 真伝町亀山12-2\, 岡崎市\, 愛知県\, 444-3174
CATEGORIES:トレアカ
ORGANIZER;CN="iMA sport agent":MAILTO:ima.sportsagent@gmail.com
END:VEVENT
BEGIN:VEVENT
DTSTART;TZID=Asia/Tokyo:20260210T160000
DTEND;TZID=Asia/Tokyo:20260210T180000
DTSTAMP:20260425T225351
CREATED:20260117T114527Z
LAST-MODIFIED:20260117T114809Z
UID:14741-1770739200-1770746400@mikawautd.com
SUMMARY:2月10日(火)BS/SS
DESCRIPTION:ボールスクール / サッカースクール \nボールスクール◽️◽️◽️BS\n時間：16:00〜16:45\n学年：幼児〜小学1年生\n曜日：火曜日 \nサッカースクール◽️◽️◽️SS\n時間：16:30〜18:00\n学年：小学1年生〜小学6年生\n曜日：火曜日・木曜日
URL:https://mikawautd.com/calendar/2%e6%9c%8810%e6%97%a5%e7%81%abbs-ss/
LOCATION:龍北サッカー場【FR】\, 真伝町亀山12-2\, 岡崎市\, 愛知県\, 444-3174
CATEGORIES:サッカースクール,ボールスクール
ORGANIZER;CN="iMA sport agent":MAILTO:ima.sportsagent@gmail.com
END:VEVENT
BEGIN:VEVENT
DTSTART;TZID=Asia/Tokyo:20260216T163000
DTEND;TZID=Asia/Tokyo:20260216T180000
DTSTAMP:20260425T225351
CREATED:20260117T112917Z
LAST-MODIFIED:20260117T114050Z
UID:14723-1771259400-1771264800@mikawautd.com
SUMMARY:2月16日(月)中学生
DESCRIPTION:トレアカ \nトレーニングアカデミー◽️◽️◽️TA\n時間：16:30〜18:00\n学年：中学1年生〜中学3年生\n曜日：月曜日・木曜日
URL:https://mikawautd.com/calendar/2%e6%9c%8816%e6%97%a5%e6%9c%88/
LOCATION:龍北サッカー場【FR】\, 真伝町亀山12-2\, 岡崎市\, 愛知県\, 444-3174
CATEGORIES:トレアカ
ORGANIZER;CN="iMA sport agent":MAILTO:ima.sportsagent@gmail.com
END:VEVENT
BEGIN:VEVENT
DTSTART;TZID=Asia/Tokyo:20260217T160000
DTEND;TZID=Asia/Tokyo:20260217T180000
DTSTAMP:20260425T225351
CREATED:20260117T114618Z
LAST-MODIFIED:20260117T114819Z
UID:14743-1771344000-1771351200@mikawautd.com
SUMMARY:2月17日(火)BS/SS
DESCRIPTION:ボールスクール / サッカースクール \nボールスクール◽️◽️◽️BS\n時間：16:00〜16:45\n学年：幼児〜小学1年生\n曜日：火曜日 \nサッカースクール◽️◽️◽️SS\n時間：16:30〜18:00\n学年：小学1年生〜小学6年生\n曜日：火曜日・木曜日
URL:https://mikawautd.com/calendar/2%e6%9c%8817%e6%97%a5%e7%81%abbs-ss/
LOCATION:龍北サッカー場【FR】\, 真伝町亀山12-2\, 岡崎市\, 愛知県\, 444-3174
CATEGORIES:サッカースクール,ボールスクール
ORGANIZER;CN="iMA sport agent":MAILTO:ima.sportsagent@gmail.com
END:VEVENT
BEGIN:VEVENT
DTSTART;TZID=Asia/Tokyo:20260219T163000
DTEND;TZID=Asia/Tokyo:20260219T180000
DTSTAMP:20260425T225351
CREATED:20260117T115336Z
LAST-MODIFIED:20260117T115336Z
UID:14751-1771518600-1771524000@mikawautd.com
SUMMARY:2月19日(木)SS/中学生
DESCRIPTION:サッカースクール / トレアカ \nサッカースクール◽️◽️◽️SS\n時間：16:30〜18:00\n学年：小学1年生〜小学6年生\n曜日：火曜日・木曜日 \nトレーニングアカデミー◽️◽️◽️TA\n時間：16:30〜18:00\n学年：中学1年生〜中学3年生\n曜日：月曜日・木曜日
URL:https://mikawautd.com/calendar/2%e6%9c%8819%e6%97%a5%e6%9c%a8ss-%e4%b8%ad%e5%ad%a6%e7%94%9f/
LOCATION:龍北サッカー場【FR】\, 真伝町亀山12-2\, 岡崎市\, 愛知県\, 444-3174
CATEGORIES:サッカースクール,トレアカ
ORGANIZER;CN="iMA sport agent":MAILTO:ima.sportsagent@gmail.com
END:VEVENT
BEGIN:VEVENT
DTSTART;TZID=Asia/Tokyo:20260224T160000
DTEND;TZID=Asia/Tokyo:20260224T180000
DTSTAMP:20260425T225351
CREATED:20260117T114709Z
LAST-MODIFIED:20260117T114709Z
UID:14745-1771948800-1771956000@mikawautd.com
SUMMARY:2月24日(火)BS/SS
DESCRIPTION:ボールスクール / サッカースクール \nボールスクール◽️◽️◽️BS\n時間：16:00〜16:45\n学年：幼児〜小学1年生\n曜日：火曜日 \nサッカースクール◽️◽️◽️SS\n時間：16:30〜18:00\n学年：小学1年生〜小学6年生\n曜日：火曜日・木曜日
URL:https://mikawautd.com/calendar/2%e6%9c%8824%e6%97%a5%e7%81%abbs-ss/
LOCATION:龍北サッカー場【FR】\, 真伝町亀山12-2\, 岡崎市\, 愛知県\, 444-3174
CATEGORIES:サッカースクール,ボールスクール
ORGANIZER;CN="iMA sport agent":MAILTO:ima.sportsagent@gmail.com
END:VEVENT
BEGIN:VEVENT
DTSTART;TZID=Asia/Tokyo:20260226T163000
DTEND;TZID=Asia/Tokyo:20260226T180000
DTSTAMP:20260425T225351
CREATED:20260117T115417Z
LAST-MODIFIED:20260117T115417Z
UID:14753-1772123400-1772128800@mikawautd.com
SUMMARY:2月26日(木)SS/中学生
DESCRIPTION:サッカースクール / トレアカ \nサッカースクール◽️◽️◽️SS\n時間：16:30〜18:00\n学年：小学1年生〜小学6年生\n曜日：火曜日・木曜日 \nトレーニングアカデミー◽️◽️◽️TA\n時間：16:30〜18:00\n学年：中学1年生〜中学3年生\n曜日：月曜日・木曜日
URL:https://mikawautd.com/calendar/2%e6%9c%8826%e6%97%a5%e6%9c%a8ss-%e4%b8%ad%e5%ad%a6%e7%94%9f/
LOCATION:龍北サッカー場【FR】\, 真伝町亀山12-2\, 岡崎市\, 愛知県\, 444-3174
CATEGORIES:サッカースクール,トレアカ
ORGANIZER;CN="iMA sport agent":MAILTO:ima.sportsagent@gmail.com
END:VEVENT
END:VCALENDAR