BEGIN:VCALENDAR
VERSION:2.0
PRODID:-//ユナイテッド - ECPv6.15.20//NONSGML v1.0//EN
CALSCALE:GREGORIAN
METHOD:PUBLISH
X-ORIGINAL-URL:https://mikawautd.com
X-WR-CALDESC:ユナイテッド のイベント
REFRESH-INTERVAL;VALUE=DURATION:PT1H
X-Robots-Tag:noindex
X-PUBLISHED-TTL:PT1H
BEGIN:VTIMEZONE
TZID:Asia/Tokyo
BEGIN:STANDARD
TZOFFSETFROM:+0900
TZOFFSETTO:+0900
TZNAME:JST
DTSTART:20240101T000000
END:STANDARD
END:VTIMEZONE
BEGIN:VEVENT
DTSTART;TZID=Asia/Tokyo:20251201T163000
DTEND;TZID=Asia/Tokyo:20251201T180000
DTSTAMP:20260426T014128
CREATED:20251126T004256Z
LAST-MODIFIED:20251126T004256Z
UID:14609-1764606600-1764612000@mikawautd.com
SUMMARY:12月1日(月)中学生
DESCRIPTION:united soccer academy\n会場：龍北総合運動場サッカー・ラグビー場＞＞ \n \n\n中学生◽️◽️◽️\n時間：16:30〜18:00\n学年：中学1年生〜中学3年生/小学6年生\n曜日：月曜日・木曜日 \n \n\n＠ユナイテッドメンバーは15:30からグラウンドを利用できます
URL:https://mikawautd.com/calendar/12%e6%9c%881%e6%97%a5%e6%9c%88%e4%b8%ad%e5%ad%a6%e7%94%9f/
LOCATION:龍北サッカー場【FR】\, 真伝町亀山12-2\, 岡崎市\, 愛知県\, 444-3174
CATEGORIES:トレアカ
ORGANIZER;CN="iMA sport agent":MAILTO:ima.sportsagent@gmail.com
END:VEVENT
BEGIN:VEVENT
DTSTART;TZID=Asia/Tokyo:20251202T160000
DTEND;TZID=Asia/Tokyo:20251202T180000
DTSTAMP:20260426T014128
CREATED:20251126T004740Z
LAST-MODIFIED:20251126T004740Z
UID:14619-1764691200-1764698400@mikawautd.com
SUMMARY:12月2日(火)BS/SS
DESCRIPTION:united soccer academy\n会場：龍北総合運動場サッカー・ラグビー場＞＞ \n \n\nボールスクール◽️◽️◽️BS\n時間：16:00〜16:45\n学年：幼児〜小学1年生\n曜日：火曜日 \n\nボールスクール＞＞ \n\nサッカースクール◽️◽️◽️SS\n時間：16:30〜18:00\n学年：小学1年生〜小学6年生\n曜日：火曜日・木曜日 \n\nサッカースクール＞＞ \n\n＠ユナイテッドメンバーは15:30からグラウンドを利用できます
URL:https://mikawautd.com/calendar/12%e6%9c%882%e6%97%a5%e7%81%abbs-ss/
LOCATION:龍北サッカー場【FR】\, 真伝町亀山12-2\, 岡崎市\, 愛知県\, 444-3174
CATEGORIES:サッカースクール,ボールスクール
ORGANIZER;CN="iMA sport agent":MAILTO:ima.sportsagent@gmail.com
END:VEVENT
BEGIN:VEVENT
DTSTART;TZID=Asia/Tokyo:20251204T163000
DTEND;TZID=Asia/Tokyo:20251204T180000
DTSTAMP:20260426T014128
CREATED:20251126T005343Z
LAST-MODIFIED:20251126T005343Z
UID:14627-1764865800-1764871200@mikawautd.com
SUMMARY:12月4日(木)SS/中学生
DESCRIPTION:united soccer academy\n会場：龍北総合運動場サッカー・ラグビー場＞＞ \n \n\nサッカースクール◽️◽️◽️SS\n時間：16:30〜18:00\n学年：小学1年生〜小学6年生\n曜日：火曜日・木曜日 \n\nサッカースクール＞＞ \n\n中学生◽️◽️◽️\n時間：16:30〜18:00\n学年：中学1年生〜中学3年生/小学6年生\n曜日：月曜日・木曜日 \n \n\n\n＠ユナイテッドメンバーは15:30からグラウンドを利用できます
URL:https://mikawautd.com/calendar/12%e6%9c%884%e6%97%a5%e6%9c%a8ss-%e4%b8%ad%e5%ad%a6%e7%94%9f/
LOCATION:龍北サッカー場【FR】\, 真伝町亀山12-2\, 岡崎市\, 愛知県\, 444-3174
CATEGORIES:サッカースクール,トレアカ
ORGANIZER;CN="iMA sport agent":MAILTO:ima.sportsagent@gmail.com
END:VEVENT
BEGIN:VEVENT
DTSTART;TZID=Asia/Tokyo:20251208T163000
DTEND;TZID=Asia/Tokyo:20251208T180000
DTSTAMP:20260426T014128
CREATED:20251126T004259Z
LAST-MODIFIED:20251126T004259Z
UID:14611-1765211400-1765216800@mikawautd.com
SUMMARY:12月8日(月)中学生
DESCRIPTION:united soccer academy\n会場：龍北総合運動場サッカー・ラグビー場＞＞ \n \n\n中学生◽️◽️◽️\n時間：16:30〜18:00\n学年：中学1年生〜中学3年生/小学6年生\n曜日：月曜日・木曜日 \n \n\n＠ユナイテッドメンバーは15:30からグラウンドを利用できます
URL:https://mikawautd.com/calendar/12%e6%9c%888%e6%97%a5%e6%9c%88%e4%b8%ad%e5%ad%a6%e7%94%9f/
LOCATION:龍北サッカー場【FR】\, 真伝町亀山12-2\, 岡崎市\, 愛知県\, 444-3174
CATEGORIES:トレアカ
ORGANIZER;CN="iMA sport agent":MAILTO:ima.sportsagent@gmail.com
END:VEVENT
BEGIN:VEVENT
DTSTART;TZID=Asia/Tokyo:20251209T160000
DTEND;TZID=Asia/Tokyo:20251209T180000
DTSTAMP:20260426T014128
CREATED:20251126T004742Z
LAST-MODIFIED:20251126T004742Z
UID:14621-1765296000-1765303200@mikawautd.com
SUMMARY:12月9日(火)BS/SS
DESCRIPTION:united soccer academy\n会場：龍北総合運動場サッカー・ラグビー場＞＞ \n \n\nボールスクール◽️◽️◽️BS\n時間：16:00〜16:45\n学年：幼児〜小学1年生\n曜日：火曜日 \n\nボールスクール＞＞ \n\nサッカースクール◽️◽️◽️SS\n時間：16:30〜18:00\n学年：小学1年生〜小学6年生\n曜日：火曜日・木曜日 \n\nサッカースクール＞＞ \n\n＠ユナイテッドメンバーは15:30からグラウンドを利用できます
URL:https://mikawautd.com/calendar/12%e6%9c%889%e6%97%a5%e7%81%abbs-ss/
LOCATION:龍北サッカー場【FR】\, 真伝町亀山12-2\, 岡崎市\, 愛知県\, 444-3174
CATEGORIES:サッカースクール,ボールスクール
ORGANIZER;CN="iMA sport agent":MAILTO:ima.sportsagent@gmail.com
END:VEVENT
BEGIN:VEVENT
DTSTART;TZID=Asia/Tokyo:20251211T163000
DTEND;TZID=Asia/Tokyo:20251211T180000
DTSTAMP:20260426T014128
CREATED:20251126T005346Z
LAST-MODIFIED:20251126T005346Z
UID:14629-1765470600-1765476000@mikawautd.com
SUMMARY:12月11日(木)SS/中学生
DESCRIPTION:united soccer academy\n会場：龍北総合運動場サッカー・ラグビー場＞＞ \n \n\nサッカースクール◽️◽️◽️SS\n時間：16:30〜18:00\n学年：小学1年生〜小学6年生\n曜日：火曜日・木曜日 \n\nサッカースクール＞＞ \n\n中学生◽️◽️◽️\n時間：16:30〜18:00\n学年：中学1年生〜中学3年生/小学6年生\n曜日：月曜日・木曜日 \n \n\n\n＠ユナイテッドメンバーは15:30からグラウンドを利用できます
URL:https://mikawautd.com/calendar/12%e6%9c%8811%e6%97%a5%e6%9c%a8ss-%e4%b8%ad%e5%ad%a6%e7%94%9f/
LOCATION:龍北サッカー場【FR】\, 真伝町亀山12-2\, 岡崎市\, 愛知県\, 444-3174
CATEGORIES:サッカースクール,ボールスクール
ORGANIZER;CN="iMA sport agent":MAILTO:ima.sportsagent@gmail.com
END:VEVENT
BEGIN:VEVENT
DTSTART;TZID=Asia/Tokyo:20251215T163000
DTEND;TZID=Asia/Tokyo:20251215T180000
DTSTAMP:20260426T014128
CREATED:20251126T004304Z
LAST-MODIFIED:20251126T004304Z
UID:14613-1765816200-1765821600@mikawautd.com
SUMMARY:12月15日(月)中学生
DESCRIPTION:united soccer academy\n会場：龍北総合運動場サッカー・ラグビー場＞＞ \n \n\n中学生◽️◽️◽️\n時間：16:30〜18:00\n学年：中学1年生〜中学3年生/小学6年生\n曜日：月曜日・木曜日 \n \n\n＠ユナイテッドメンバーは15:30からグラウンドを利用できます
URL:https://mikawautd.com/calendar/12%e6%9c%8815%e6%97%a5%e6%9c%88%e4%b8%ad%e5%ad%a6%e7%94%9f/
LOCATION:龍北サッカー場【FR】\, 真伝町亀山12-2\, 岡崎市\, 愛知県\, 444-3174
CATEGORIES:トレアカ
ORGANIZER;CN="iMA sport agent":MAILTO:ima.sportsagent@gmail.com
END:VEVENT
BEGIN:VEVENT
DTSTART;TZID=Asia/Tokyo:20251216T160000
DTEND;TZID=Asia/Tokyo:20251216T180000
DTSTAMP:20260426T014128
CREATED:20251126T004745Z
LAST-MODIFIED:20251126T004745Z
UID:14623-1765900800-1765908000@mikawautd.com
SUMMARY:12月16日(火)BS/SS
DESCRIPTION:united soccer academy\n会場：龍北総合運動場サッカー・ラグビー場＞＞ \n \n\nボールスクール◽️◽️◽️BS\n時間：16:00〜16:45\n学年：幼児〜小学1年生\n曜日：火曜日 \n\nボールスクール＞＞ \n\nサッカースクール◽️◽️◽️SS\n時間：16:30〜18:00\n学年：小学1年生〜小学6年生\n曜日：火曜日・木曜日 \n\nサッカースクール＞＞ \n\n＠ユナイテッドメンバーは15:30からグラウンドを利用できます
URL:https://mikawautd.com/calendar/12%e6%9c%8816%e6%97%a5%e7%81%abbs-ss/
LOCATION:龍北サッカー場【FR】\, 真伝町亀山12-2\, 岡崎市\, 愛知県\, 444-3174
CATEGORIES:サッカースクール,ボールスクール
ORGANIZER;CN="iMA sport agent":MAILTO:ima.sportsagent@gmail.com
END:VEVENT
BEGIN:VEVENT
DTSTART;TZID=Asia/Tokyo:20251218T163000
DTEND;TZID=Asia/Tokyo:20251218T180000
DTSTAMP:20260426T014128
CREATED:20251126T005349Z
LAST-MODIFIED:20251126T005349Z
UID:14631-1766075400-1766080800@mikawautd.com
SUMMARY:12月18日(木)SS/中学生
DESCRIPTION:united soccer academy\n会場：龍北総合運動場サッカー・ラグビー場＞＞ \n \n\nサッカースクール◽️◽️◽️SS\n時間：16:30〜18:00\n学年：小学1年生〜小学6年生\n曜日：火曜日・木曜日 \n\nサッカースクール＞＞ \n\n中学生◽️◽️◽️\n時間：16:30〜18:00\n学年：中学1年生〜中学3年生/小学6年生\n曜日：月曜日・木曜日 \n \n\n\n＠ユナイテッドメンバーは15:30からグラウンドを利用できます
URL:https://mikawautd.com/calendar/12%e6%9c%8818%e6%97%a5%e6%9c%a8ss-%e4%b8%ad%e5%ad%a6%e7%94%9f/
LOCATION:龍北サッカー場【FR】\, 真伝町亀山12-2\, 岡崎市\, 愛知県\, 444-3174
CATEGORIES:サッカースクール,トレアカ
ORGANIZER;CN="iMA sport agent":MAILTO:ima.sportsagent@gmail.com
END:VEVENT
BEGIN:VEVENT
DTSTART;TZID=Asia/Tokyo:20251222T163000
DTEND;TZID=Asia/Tokyo:20251222T180000
DTSTAMP:20260426T014128
CREATED:20251126T004308Z
LAST-MODIFIED:20251126T004308Z
UID:14617-1766421000-1766426400@mikawautd.com
SUMMARY:12月22日(月)中学生
DESCRIPTION:united soccer academy\n会場：龍北総合運動場サッカー・ラグビー場＞＞ \n \n\n中学生◽️◽️◽️\n時間：16:30〜18:00\n学年：中学1年生〜中学3年生/小学6年生\n曜日：月曜日・木曜日 \n \n\n＠ユナイテッドメンバーは15:30からグラウンドを利用できます
URL:https://mikawautd.com/calendar/12%e6%9c%8822%e6%97%a5%e6%9c%88%e4%b8%ad%e5%ad%a6%e7%94%9f/
LOCATION:龍北サッカー場【FR】\, 真伝町亀山12-2\, 岡崎市\, 愛知県\, 444-3174
CATEGORIES:トレアカ
ORGANIZER;CN="iMA sport agent":MAILTO:ima.sportsagent@gmail.com
END:VEVENT
END:VCALENDAR