BEGIN:VCALENDAR
VERSION:2.0
PRODID:-//ユナイテッド - ECPv6.15.20//NONSGML v1.0//EN
CALSCALE:GREGORIAN
METHOD:PUBLISH
X-ORIGINAL-URL:https://mikawautd.com
X-WR-CALDESC:ユナイテッド のイベント
REFRESH-INTERVAL;VALUE=DURATION:PT1H
X-Robots-Tag:noindex
X-PUBLISHED-TTL:PT1H
BEGIN:VTIMEZONE
TZID:Asia/Tokyo
BEGIN:STANDARD
TZOFFSETFROM:+0900
TZOFFSETTO:+0900
TZNAME:JST
DTSTART:20250101T000000
END:STANDARD
END:VTIMEZONE
BEGIN:VEVENT
DTSTART;TZID=Asia/Tokyo:20260303T160000
DTEND;TZID=Asia/Tokyo:20260303T180000
DTSTAMP:20260426T002300
CREATED:20260120T002207Z
LAST-MODIFIED:20260120T002207Z
UID:15115-1772553600-1772560800@mikawautd.com
SUMMARY:3月3日(火)BS/SS
DESCRIPTION:ボールスクール / サッカースクール \nボールスクール◽️◽️◽️BS\n時間：16:00〜16:45\n学年：幼児〜小学1年生\n曜日：火曜日 \nサッカースクール◽️◽️◽️SS\n時間：16:30〜18:00\n学年：小学1年生〜小学6年生\n曜日：火曜日・木曜日
URL:https://mikawautd.com/calendar/3%e6%9c%883%e6%97%a5%e7%81%abbs-ss/
LOCATION:龍北サッカー場【FR】\, 真伝町亀山12-2\, 岡崎市\, 愛知県\, 444-3174
CATEGORIES:サッカースクール,ボールスクール
ORGANIZER;CN="iMA sport agent":MAILTO:ima.sportsagent@gmail.com
END:VEVENT
BEGIN:VEVENT
DTSTART;TZID=Asia/Tokyo:20260310T160000
DTEND;TZID=Asia/Tokyo:20260310T180000
DTSTAMP:20260426T002300
CREATED:20260120T002254Z
LAST-MODIFIED:20260120T002254Z
UID:15117-1773158400-1773165600@mikawautd.com
SUMMARY:3月10日(火)BS/SS
DESCRIPTION:ボールスクール / サッカースクール \nボールスクール◽️◽️◽️BS\n時間：16:00〜16:45\n学年：幼児〜小学1年生\n曜日：火曜日 \nサッカースクール◽️◽️◽️SS\n時間：16:30〜18:00\n学年：小学1年生〜小学6年生\n曜日：火曜日・木曜日
URL:https://mikawautd.com/calendar/3%e6%9c%8810%e6%97%a5%e7%81%abbs-ss/
LOCATION:龍北サッカー場【FR】\, 真伝町亀山12-2\, 岡崎市\, 愛知県\, 444-3174
CATEGORIES:サッカースクール,ボールスクール
ORGANIZER;CN="iMA sport agent":MAILTO:ima.sportsagent@gmail.com
END:VEVENT
BEGIN:VEVENT
DTSTART;TZID=Asia/Tokyo:20260317T160000
DTEND;TZID=Asia/Tokyo:20260317T180000
DTSTAMP:20260426T002300
CREATED:20260120T002338Z
LAST-MODIFIED:20260120T002338Z
UID:15119-1773763200-1773770400@mikawautd.com
SUMMARY:3月17日(火)BS/SS
DESCRIPTION:ボールスクール / サッカースクール \nボールスクール◽️◽️◽️BS\n時間：16:00〜16:45\n学年：幼児〜小学1年生\n曜日：火曜日 \nサッカースクール◽️◽️◽️SS\n時間：16:30〜18:00\n学年：小学1年生〜小学6年生\n曜日：火曜日・木曜日
URL:https://mikawautd.com/calendar/3%e6%9c%8817%e6%97%a5%e7%81%abbs-ss/
LOCATION:龍北サッカー場【FR】\, 真伝町亀山12-2\, 岡崎市\, 愛知県\, 444-3174
CATEGORIES:サッカースクール,ボールスクール
ORGANIZER;CN="iMA sport agent":MAILTO:ima.sportsagent@gmail.com
END:VEVENT
END:VCALENDAR