BEGIN:VCALENDAR
VERSION:2.0
PRODID:-//ユナイテッド - ECPv6.15.20//NONSGML v1.0//EN
CALSCALE:GREGORIAN
METHOD:PUBLISH
X-ORIGINAL-URL:https://mikawautd.com
X-WR-CALDESC:ユナイテッド のイベント
REFRESH-INTERVAL;VALUE=DURATION:PT1H
X-Robots-Tag:noindex
X-PUBLISHED-TTL:PT1H
BEGIN:VTIMEZONE
TZID:Asia/Tokyo
BEGIN:STANDARD
TZOFFSETFROM:+0900
TZOFFSETTO:+0900
TZNAME:JST
DTSTART:20250101T000000
END:STANDARD
END:VTIMEZONE
BEGIN:VEVENT
DTSTART;TZID=Asia/Tokyo:20260113T163000
DTEND;TZID=Asia/Tokyo:20260113T180000
DTSTAMP:20260426T030622
CREATED:20251126T010517Z
LAST-MODIFIED:20251126T010742Z
UID:14645-1768321800-1768327200@mikawautd.com
SUMMARY:1月13日(火)BS/SS
DESCRIPTION:united soccer academy\n会場：龍北総合運動場サッカー・ラグビー場＞＞ \n \n\nボールスクール◽️◽️◽️BS\n時間：16:00〜16:45\n学年：幼児〜小学1年生\n曜日：火曜日 \n\nボールスクール＞＞ \n\nサッカースクール◽️◽️◽️SS\n時間：16:30〜18:00\n学年：小学1年生〜小学6年生\n曜日：火曜日・木曜日 \n\nサッカースクール＞＞ \n\n＠ユナイテッドメンバーは15:30からグラウンドを利用できます
URL:https://mikawautd.com/calendar/1%e6%9c%8813%e6%97%a5%e7%81%abbs-ss/
LOCATION:龍北サッカー場【FR】\, 真伝町亀山12-2\, 岡崎市\, 愛知県\, 444-3174
CATEGORIES:サッカースクール,ボールスクール
ORGANIZER;CN="iMA sport agent":MAILTO:ima.sportsagent@gmail.com
END:VEVENT
BEGIN:VEVENT
DTSTART;TZID=Asia/Tokyo:20260120T163000
DTEND;TZID=Asia/Tokyo:20260120T180000
DTSTAMP:20260426T030622
CREATED:20251126T010744Z
LAST-MODIFIED:20251126T010744Z
UID:14647-1768926600-1768932000@mikawautd.com
SUMMARY:1月20日(火)BS/SS
DESCRIPTION:united soccer academy\n会場：龍北総合運動場サッカー・ラグビー場＞＞ \n \n\nボールスクール◽️◽️◽️BS\n時間：16:00〜16:45\n学年：幼児〜小学1年生\n曜日：火曜日 \n\nボールスクール＞＞ \n\nサッカースクール◽️◽️◽️SS\n時間：16:30〜18:00\n学年：小学1年生〜小学6年生\n曜日：火曜日・木曜日 \n\nサッカースクール＞＞ \n\n＠ユナイテッドメンバーは15:30からグラウンドを利用できます
URL:https://mikawautd.com/calendar/1%e6%9c%8820%e6%97%a5%e7%81%abbs-ss/
LOCATION:龍北サッカー場【FR】\, 真伝町亀山12-2\, 岡崎市\, 愛知県\, 444-3174
CATEGORIES:サッカースクール,ボールスクール
ORGANIZER;CN="iMA sport agent":MAILTO:ima.sportsagent@gmail.com
END:VEVENT
BEGIN:VEVENT
DTSTART;TZID=Asia/Tokyo:20260127T163000
DTEND;TZID=Asia/Tokyo:20260127T180000
DTSTAMP:20260426T030622
CREATED:20251126T010747Z
LAST-MODIFIED:20251126T010747Z
UID:14649-1769531400-1769536800@mikawautd.com
SUMMARY:1月27日(火)BS/SS
DESCRIPTION:united soccer academy\n会場：龍北総合運動場サッカー・ラグビー場＞＞ \n \n\nボールスクール◽️◽️◽️BS\n時間：16:00〜16:45\n学年：幼児〜小学1年生\n曜日：火曜日 \n\nボールスクール＞＞ \n\nサッカースクール◽️◽️◽️SS\n時間：16:30〜18:00\n学年：小学1年生〜小学6年生\n曜日：火曜日・木曜日 \n\nサッカースクール＞＞ \n\n＠ユナイテッドメンバーは15:30からグラウンドを利用できます
URL:https://mikawautd.com/calendar/1%e6%9c%8827%e6%97%a5%e7%81%abbs-ss/
LOCATION:龍北サッカー場【FR】\, 真伝町亀山12-2\, 岡崎市\, 愛知県\, 444-3174
CATEGORIES:サッカースクール,ボールスクール
ORGANIZER;CN="iMA sport agent":MAILTO:ima.sportsagent@gmail.com
END:VEVENT
END:VCALENDAR