BEGIN:VCALENDAR
VERSION:2.0
PRODID:-//ユナイテッド - ECPv6.15.20//NONSGML v1.0//EN
CALSCALE:GREGORIAN
METHOD:PUBLISH
X-ORIGINAL-URL:https://mikawautd.com
X-WR-CALDESC:ユナイテッド のイベント
REFRESH-INTERVAL;VALUE=DURATION:PT1H
X-Robots-Tag:noindex
X-PUBLISHED-TTL:PT1H
BEGIN:VTIMEZONE
TZID:Asia/Tokyo
BEGIN:STANDARD
TZOFFSETFROM:+0900
TZOFFSETTO:+0900
TZNAME:JST
DTSTART:20240101T000000
END:STANDARD
END:VTIMEZONE
BEGIN:VEVENT
DTSTART;TZID=Asia/Tokyo:20251104T160000
DTEND;TZID=Asia/Tokyo:20251104T180000
DTSTAMP:20260426T060049
CREATED:20250924T232830Z
LAST-MODIFIED:20250924T232830Z
UID:14562-1762272000-1762279200@mikawautd.com
SUMMARY:11月4日(火)BS/SS
DESCRIPTION:united soccer academy\n会場：龍北総合運動場サッカー・ラグビー場＞＞ \n \n\nボールスクール◽️◽️◽️BS\n時間：16:00〜16:45\n学年：幼児〜小学1年生\n曜日：火曜日 \n\nボールスクール＞＞ \n\nサッカースクール◽️◽️◽️SS\n時間：16:30〜18:00\n学年：小学1年生〜小学6年生\n曜日：火曜日・木曜日 \n\nサッカースクール＞＞ \n\n＠ユナイテッドメンバーは15:30からグラウンドを利用できます
URL:https://mikawautd.com/calendar/11%e6%9c%884%e6%97%a5%e7%81%abbs-ss/
LOCATION:龍北サッカー場【FR】\, 真伝町亀山12-2\, 岡崎市\, 愛知県\, 444-3174
CATEGORIES:サッカースクール,ボールスクール
ORGANIZER;CN="iMA sport agent":MAILTO:ima.sportsagent@gmail.com
END:VEVENT
BEGIN:VEVENT
DTSTART;TZID=Asia/Tokyo:20251111T160000
DTEND;TZID=Asia/Tokyo:20251111T180000
DTSTAMP:20260426T060049
CREATED:20250924T232834Z
LAST-MODIFIED:20250924T232834Z
UID:14564-1762876800-1762884000@mikawautd.com
SUMMARY:11月11日(火)BS/SS
DESCRIPTION:united soccer academy\n会場：龍北総合運動場サッカー・ラグビー場＞＞ \n \n\nボールスクール◽️◽️◽️BS\n時間：16:00〜16:45\n学年：幼児〜小学1年生\n曜日：火曜日 \n\nボールスクール＞＞ \n\nサッカースクール◽️◽️◽️SS\n時間：16:30〜18:00\n学年：小学1年生〜小学6年生\n曜日：火曜日・木曜日 \n\nサッカースクール＞＞ \n\n＠ユナイテッドメンバーは15:30からグラウンドを利用できます
URL:https://mikawautd.com/calendar/11%e6%9c%8811%e6%97%a5%e7%81%abbs-ss/
LOCATION:龍北サッカー場【FR】\, 真伝町亀山12-2\, 岡崎市\, 愛知県\, 444-3174
CATEGORIES:サッカースクール,ボールスクール
ORGANIZER;CN="iMA sport agent":MAILTO:ima.sportsagent@gmail.com
END:VEVENT
BEGIN:VEVENT
DTSTART;TZID=Asia/Tokyo:20251118T160000
DTEND;TZID=Asia/Tokyo:20251118T180000
DTSTAMP:20260426T060049
CREATED:20250924T232837Z
LAST-MODIFIED:20250924T232837Z
UID:14566-1763481600-1763488800@mikawautd.com
SUMMARY:11月18日(火)BS/SS
DESCRIPTION:united soccer academy\n会場：龍北総合運動場サッカー・ラグビー場＞＞ \n \n\nボールスクール◽️◽️◽️BS\n時間：16:00〜16:45\n学年：幼児〜小学1年生\n曜日：火曜日 \n\nボールスクール＞＞ \n\nサッカースクール◽️◽️◽️SS\n時間：16:30〜18:00\n学年：小学1年生〜小学6年生\n曜日：火曜日・木曜日 \n\nサッカースクール＞＞ \n\n＠ユナイテッドメンバーは15:30からグラウンドを利用できます
URL:https://mikawautd.com/calendar/11%e6%9c%8818%e6%97%a5%e7%81%abbs-ss/
LOCATION:龍北サッカー場【FR】\, 真伝町亀山12-2\, 岡崎市\, 愛知県\, 444-3174
CATEGORIES:サッカースクール,ボールスクール
ORGANIZER;CN="iMA sport agent":MAILTO:ima.sportsagent@gmail.com
END:VEVENT
BEGIN:VEVENT
DTSTART;TZID=Asia/Tokyo:20251125T160000
DTEND;TZID=Asia/Tokyo:20251125T180000
DTSTAMP:20260426T060049
CREATED:20250924T232839Z
LAST-MODIFIED:20250924T232839Z
UID:14568-1764086400-1764093600@mikawautd.com
SUMMARY:11月25日(火)BS/SS
DESCRIPTION:united soccer academy\n会場：龍北総合運動場サッカー・ラグビー場＞＞ \n \n\nボールスクール◽️◽️◽️BS\n時間：16:00〜16:45\n学年：幼児〜小学1年生\n曜日：火曜日 \n\nボールスクール＞＞ \n\nサッカースクール◽️◽️◽️SS\n時間：16:30〜18:00\n学年：小学1年生〜小学6年生\n曜日：火曜日・木曜日 \n\nサッカースクール＞＞ \n\n＠ユナイテッドメンバーは15:30からグラウンドを利用できます
URL:https://mikawautd.com/calendar/11%e6%9c%8825%e6%97%a5%e7%81%abbs-ss/
LOCATION:龍北サッカー場【FR】\, 真伝町亀山12-2\, 岡崎市\, 愛知県\, 444-3174
CATEGORIES:サッカースクール,ボールスクール
ORGANIZER;CN="iMA sport agent":MAILTO:ima.sportsagent@gmail.com
END:VEVENT
END:VCALENDAR