BEGIN:VCALENDAR
VERSION:2.0
PRODID:-//ユナイテッド - ECPv6.15.20//NONSGML v1.0//EN
CALSCALE:GREGORIAN
METHOD:PUBLISH
X-ORIGINAL-URL:https://mikawautd.com
X-WR-CALDESC:ユナイテッド のイベント
REFRESH-INTERVAL;VALUE=DURATION:PT1H
X-Robots-Tag:noindex
X-PUBLISHED-TTL:PT1H
BEGIN:VTIMEZONE
TZID:Asia/Tokyo
BEGIN:STANDARD
TZOFFSETFROM:+0900
TZOFFSETTO:+0900
TZNAME:JST
DTSTART:20240101T000000
END:STANDARD
END:VTIMEZONE
BEGIN:VEVENT
DTSTART;VALUE=DATE:20250820
DTEND;VALUE=DATE:20250822
DTSTAMP:20260426T102925
CREATED:20250608T230239Z
LAST-MODIFIED:20250608T230239Z
UID:14372-1755648000-1755820799@mikawautd.com
SUMMARY:夏山キャンプ
DESCRIPTION:詳細が決まり次第お知らせいたします。 \nしばらくお待ちください。
URL:https://mikawautd.com/calendar/%e5%a4%8f%e5%b1%b1%e3%82%ad%e3%83%a3%e3%83%b3%e3%83%97/
LOCATION:愛知県
CATEGORIES:サッカースクール,ボールスクール
ORGANIZER;CN="iMA sport agent":MAILTO:ima.sportsagent@gmail.com
END:VEVENT
END:VCALENDAR