BEGIN:VCALENDAR
VERSION:2.0
PRODID:-//ユナイテッド - ECPv6.15.20//NONSGML v1.0//EN
CALSCALE:GREGORIAN
METHOD:PUBLISH
X-ORIGINAL-URL:https://mikawautd.com
X-WR-CALDESC:ユナイテッド のイベント
REFRESH-INTERVAL;VALUE=DURATION:PT1H
X-Robots-Tag:noindex
X-PUBLISHED-TTL:PT1H
BEGIN:VTIMEZONE
TZID:Asia/Tokyo
BEGIN:STANDARD
TZOFFSETFROM:+0900
TZOFFSETTO:+0900
TZNAME:JST
DTSTART:20240101T000000
END:STANDARD
END:VTIMEZONE
BEGIN:VEVENT
DTSTART;TZID=Asia/Tokyo:20250701T160000
DTEND;TZID=Asia/Tokyo:20250701T180000
DTSTAMP:20260426T115825
CREATED:20250507T233452Z
LAST-MODIFIED:20250507T233452Z
UID:14336-1751385600-1751392800@mikawautd.com
SUMMARY:7月1日(火)BS/SS
DESCRIPTION:united soccer academy\n会場：龍北総合運動場サッカー・ラグビー場＞＞ \n \n\nボールスクール◽️◽️◽️BS\n時間：16:00〜16:45\n学年：幼児〜小学1年生\n曜日：火曜日 \n\nボールスクール＞＞ \n\nサッカースクール◽️◽️◽️SS\n時間：16:45〜18:00\n学年：小学1年生〜小学6年生\n曜日：火曜日・木曜日 \n\nサッカースクール＞＞ \n\n＠ユナイテッドメンバーは15:30からグラウンドを利用できます
URL:https://mikawautd.com/calendar/7%e6%9c%881%e6%97%a5%e7%81%abbs-ss/
LOCATION:龍北サッカー場【FR】\, 真伝町亀山12-2\, 岡崎市\, 愛知県\, 444-3174
CATEGORIES:サッカースクール,ボールスクール
ORGANIZER;CN="iMA sport agent":MAILTO:ima.sportsagent@gmail.com
END:VEVENT
BEGIN:VEVENT
DTSTART;TZID=Asia/Tokyo:20250708T160000
DTEND;TZID=Asia/Tokyo:20250708T180000
DTSTAMP:20260426T115825
CREATED:20250507T233551Z
LAST-MODIFIED:20250507T233551Z
UID:14338-1751990400-1751997600@mikawautd.com
SUMMARY:7月8日(火)BS/SS
DESCRIPTION:united soccer academy\n会場：龍北総合運動場サッカー・ラグビー場＞＞ \n \n\nボールスクール◽️◽️◽️BS\n時間：16:00〜16:45\n学年：幼児〜小学1年生\n曜日：火曜日 \n\nボールスクール＞＞ \n\nサッカースクール◽️◽️◽️SS\n時間：16:45〜18:00\n学年：小学1年生〜小学6年生\n曜日：火曜日・木曜日 \n\nサッカースクール＞＞ \n\n＠ユナイテッドメンバーは15:30からグラウンドを利用できます
URL:https://mikawautd.com/calendar/7%e6%9c%888%e6%97%a5%e7%81%abbs-ss/
LOCATION:龍北サッカー場【FR】\, 真伝町亀山12-2\, 岡崎市\, 愛知県\, 444-3174
CATEGORIES:サッカースクール,ボールスクール
ORGANIZER;CN="iMA sport agent":MAILTO:ima.sportsagent@gmail.com
END:VEVENT
BEGIN:VEVENT
DTSTART;TZID=Asia/Tokyo:20250710T163000
DTEND;TZID=Asia/Tokyo:20250710T180000
DTSTAMP:20260426T115825
CREATED:20250507T233845Z
LAST-MODIFIED:20250507T233845Z
UID:14346-1752165000-1752170400@mikawautd.com
SUMMARY:7月10日(木)SS/TA
DESCRIPTION:united soccer academy\n会場：龍北総合運動場サッカー・ラグビー場＞＞ \n \n\nサッカースクール◽️◽️◽️SS\n時間：16:45〜18:00\n学年：小学1年生〜小学6年生\n曜日：火曜日・木曜日 \n\nサッカースクール＞＞ \n\nジュニアユース◽️◽️◽️U15\n時間：16:30〜18:00\n学年：中学1年生〜中学3年生\n曜日：月曜日・木曜日 \n \n\n＠ユナイテッドメンバーは15:30からグラウンドを利用できます
URL:https://mikawautd.com/calendar/7%e6%9c%8810%e6%97%a5%e6%9c%a8ss-ta/
LOCATION:龍北サッカー場【FR】\, 真伝町亀山12-2\, 岡崎市\, 愛知県\, 444-3174
CATEGORIES:サッカースクール,ボールスクール
ORGANIZER;CN="iMA sport agent":MAILTO:ima.sportsagent@gmail.com
END:VEVENT
BEGIN:VEVENT
DTSTART;TZID=Asia/Tokyo:20250715T163000
DTEND;TZID=Asia/Tokyo:20250715T180000
DTSTAMP:20260426T115825
CREATED:20250507T233629Z
LAST-MODIFIED:20250507T233629Z
UID:14340-1752597000-1752602400@mikawautd.com
SUMMARY:7月15日(火)BS/SS
DESCRIPTION:united soccer academy\n会場：龍北総合運動場サッカー・ラグビー場＞＞ \n \n\nボールスクール◽️◽️◽️BS\n時間：16:00〜16:45\n学年：幼児〜小学1年生\n曜日：火曜日 \n\nボールスクール＞＞ \n\nサッカースクール◽️◽️◽️SS\n時間：16:45〜18:00\n学年：小学1年生〜小学6年生\n曜日：火曜日・木曜日 \n\nサッカースクール＞＞ \n\n＠ユナイテッドメンバーは15:30からグラウンドを利用できます
URL:https://mikawautd.com/calendar/7%e6%9c%8815%e6%97%a5%e7%81%abbs-ss/
LOCATION:龍北サッカー場【FR】\, 真伝町亀山12-2\, 岡崎市\, 愛知県\, 444-3174
CATEGORIES:サッカースクール,ボールスクール
ORGANIZER;CN="iMA sport agent":MAILTO:ima.sportsagent@gmail.com
END:VEVENT
BEGIN:VEVENT
DTSTART;TZID=Asia/Tokyo:20250722T160000
DTEND;TZID=Asia/Tokyo:20250722T180000
DTSTAMP:20260426T115825
CREATED:20250507T233707Z
LAST-MODIFIED:20250507T233707Z
UID:14342-1753200000-1753207200@mikawautd.com
SUMMARY:7月22日(火)BS/SS
DESCRIPTION:united soccer academy\n会場：龍北総合運動場サッカー・ラグビー場＞＞ \n \n\nボールスクール◽️◽️◽️BS\n時間：16:00〜16:45\n学年：幼児〜小学1年生\n曜日：火曜日 \n\nボールスクール＞＞ \n\nサッカースクール◽️◽️◽️SS\n時間：16:45〜18:00\n学年：小学1年生〜小学6年生\n曜日：火曜日・木曜日 \n\nサッカースクール＞＞ \n\n＠ユナイテッドメンバーは15:30からグラウンドを利用できます
URL:https://mikawautd.com/calendar/7%e6%9c%8822%e6%97%a5%e7%81%abbs-ss/
LOCATION:龍北サッカー場【FR】\, 真伝町亀山12-2\, 岡崎市\, 愛知県\, 444-3174
CATEGORIES:サッカースクール,ボールスクール
ORGANIZER;CN="iMA sport agent":MAILTO:ima.sportsagent@gmail.com
END:VEVENT
END:VCALENDAR