BEGIN:VCALENDAR
VERSION:2.0
PRODID:-//ユナイテッド - ECPv6.15.20//NONSGML v1.0//EN
CALSCALE:GREGORIAN
METHOD:PUBLISH
X-WR-CALNAME:ユナイテッド
X-ORIGINAL-URL:https://mikawautd.com
X-WR-CALDESC:ユナイテッド のイベント
REFRESH-INTERVAL;VALUE=DURATION:PT1H
X-Robots-Tag:noindex
X-PUBLISHED-TTL:PT1H
BEGIN:VTIMEZONE
TZID:Asia/Tokyo
BEGIN:STANDARD
TZOFFSETFROM:+0900
TZOFFSETTO:+0900
TZNAME:JST
DTSTART:20240101T000000
END:STANDARD
END:VTIMEZONE
BEGIN:VEVENT
DTSTART;TZID=Asia/Tokyo:20250603T160000
DTEND;TZID=Asia/Tokyo:20250603T180000
DTSTAMP:20260426T130829
CREATED:20250507T232205Z
LAST-MODIFIED:20250507T232205Z
UID:14308-1748966400-1748973600@mikawautd.com
SUMMARY:6月3日(火)BS/SS
DESCRIPTION:united soccer academy\n会場：龍北総合運動場サッカー・ラグビー場＞＞ \n \n\nボールスクール◽️◽️◽️BS\n時間：16:00〜16:45\n学年：幼児〜小学1年生\n曜日：火曜日 \n\nボールスクール＞＞ \n\nサッカースクール◽️◽️◽️SS\n時間：16:45〜18:00\n学年：小学1年生〜小学6年生\n曜日：火曜日・木曜日 \n\nサッカースクール＞＞ \n\n＠ユナイテッドメンバーは15:30からグラウンドを利用できます
URL:https://mikawautd.com/calendar/6%e6%9c%883%e6%97%a5%e7%81%abbs-ss/
LOCATION:龍北サッカー場【FR】\, 真伝町亀山12-2\, 岡崎市\, 愛知県\, 444-3174
CATEGORIES:サッカースクール,ボールスクール
ORGANIZER;CN="iMA sport agent":MAILTO:ima.sportsagent@gmail.com
END:VEVENT
BEGIN:VEVENT
DTSTART;TZID=Asia/Tokyo:20250610T160000
DTEND;TZID=Asia/Tokyo:20250610T180000
DTSTAMP:20260426T130829
CREATED:20250507T232246Z
LAST-MODIFIED:20250507T232246Z
UID:14310-1749571200-1749578400@mikawautd.com
SUMMARY:6月10日(火)BS/SS
DESCRIPTION:united soccer academy\n会場：龍北総合運動場サッカー・ラグビー場＞＞ \n \n\nボールスクール◽️◽️◽️BS\n時間：16:00〜16:45\n学年：幼児〜小学1年生\n曜日：火曜日 \n\nボールスクール＞＞ \n\nサッカースクール◽️◽️◽️SS\n時間：16:45〜18:00\n学年：小学1年生〜小学6年生\n曜日：火曜日・木曜日 \n\nサッカースクール＞＞ \n\n＠ユナイテッドメンバーは15:30からグラウンドを利用できます
URL:https://mikawautd.com/calendar/6%e6%9c%8810%e6%97%a5%e7%81%abbs-ss/
LOCATION:龍北サッカー場【FR】\, 真伝町亀山12-2\, 岡崎市\, 愛知県\, 444-3174
CATEGORIES:サッカースクール,ボールスクール
ORGANIZER;CN="iMA sport agent":MAILTO:ima.sportsagent@gmail.com
END:VEVENT
BEGIN:VEVENT
DTSTART;TZID=Asia/Tokyo:20250617T160000
DTEND;TZID=Asia/Tokyo:20250617T180000
DTSTAMP:20260426T130829
CREATED:20250507T232329Z
LAST-MODIFIED:20250507T232352Z
UID:14312-1750176000-1750183200@mikawautd.com
SUMMARY:6月17日(火)BS/SS
DESCRIPTION:united soccer academy\n会場：龍北総合運動場サッカー・ラグビー場＞＞ \n \n\nボールスクール◽️◽️◽️BS\n時間：16:00〜16:45\n学年：幼児〜小学1年生\n曜日：火曜日 \n\nボールスクール＞＞ \n\nサッカースクール◽️◽️◽️SS\n時間：16:45〜18:00\n学年：小学1年生〜小学6年生\n曜日：火曜日・木曜日 \n\nサッカースクール＞＞ \n\n＠ユナイテッドメンバーは15:30からグラウンドを利用できます
URL:https://mikawautd.com/calendar/6%e6%9c%8817%e6%97%a5%e7%81%abbs-ss/
LOCATION:龍北サッカー場【FR】\, 真伝町亀山12-2\, 岡崎市\, 愛知県\, 444-3174
CATEGORIES:サッカースクール,ボールスクール
ORGANIZER;CN="iMA sport agent":MAILTO:ima.sportsagent@gmail.com
END:VEVENT
BEGIN:VEVENT
DTSTART;TZID=Asia/Tokyo:20250624T160000
DTEND;TZID=Asia/Tokyo:20250624T180000
DTSTAMP:20260426T130829
CREATED:20250507T232446Z
LAST-MODIFIED:20250507T232446Z
UID:14314-1750780800-1750788000@mikawautd.com
SUMMARY:6月24日(火)BS/SS
DESCRIPTION:united soccer academy\n会場：龍北総合運動場サッカー・ラグビー場＞＞ \n \n\nボールスクール◽️◽️◽️BS\n時間：16:00〜16:45\n学年：幼児〜小学1年生\n曜日：火曜日 \n\nボールスクール＞＞ \n\nサッカースクール◽️◽️◽️SS\n時間：16:45〜18:00\n学年：小学1年生〜小学6年生\n曜日：火曜日・木曜日 \n\nサッカースクール＞＞ \n\n＠ユナイテッドメンバーは15:30からグラウンドを利用できます
URL:https://mikawautd.com/calendar/6%e6%9c%8824%e6%97%a5%e7%81%abbs-ss/
LOCATION:龍北サッカー場【FR】\, 真伝町亀山12-2\, 岡崎市\, 愛知県\, 444-3174
CATEGORIES:サッカースクール,ボールスクール
ORGANIZER;CN="iMA sport agent":MAILTO:ima.sportsagent@gmail.com
END:VEVENT
BEGIN:VEVENT
DTSTART;TZID=Asia/Tokyo:20250626T163000
DTEND;TZID=Asia/Tokyo:20250626T180000
DTSTAMP:20260426T130829
CREATED:20250507T233006Z
LAST-MODIFIED:20250507T233006Z
UID:14324-1750955400-1750960800@mikawautd.com
SUMMARY:6月26日(木)SS/TA
DESCRIPTION:united soccer academy\n会場：龍北総合運動場サッカー・ラグビー場＞＞ \n \n\nサッカースクール◽️◽️◽️SS\n時間：16:45〜18:00\n学年：小学1年生〜小学6年生\n曜日：火曜日・木曜日 \n\nサッカースクール＞＞ \n\nジュニアユース◽️◽️◽️U15\n時間：16:30〜18:00\n学年：中学1年生〜中学3年生\n曜日：月曜日・木曜日 \n \n\n＠ユナイテッドメンバーは15:30からグラウンドを利用できます
URL:https://mikawautd.com/calendar/6%e6%9c%8826%e6%97%a5%e6%9c%a8ss-ta/
LOCATION:龍北サッカー場【FR】\, 真伝町亀山12-2\, 岡崎市\, 愛知県\, 444-3174
CATEGORIES:サッカースクール,ボールスクール
ORGANIZER;CN="iMA sport agent":MAILTO:ima.sportsagent@gmail.com
END:VEVENT
END:VCALENDAR