BEGIN:VCALENDAR
VERSION:2.0
PRODID:-//ユナイテッド - ECPv6.15.20//NONSGML v1.0//EN
CALSCALE:GREGORIAN
METHOD:PUBLISH
X-ORIGINAL-URL:https://mikawautd.com
X-WR-CALDESC:ユナイテッド のイベント
REFRESH-INTERVAL;VALUE=DURATION:PT1H
X-Robots-Tag:noindex
X-PUBLISHED-TTL:PT1H
BEGIN:VTIMEZONE
TZID:Asia/Tokyo
BEGIN:STANDARD
TZOFFSETFROM:+0900
TZOFFSETTO:+0900
TZNAME:JST
DTSTART:20250101T000000
END:STANDARD
END:VTIMEZONE
BEGIN:VEVENT
DTSTART;TZID=Asia/Tokyo:20260428T160000
DTEND;TZID=Asia/Tokyo:20260428T180000
DTSTAMP:20260425T225705
CREATED:20260201T024839Z
LAST-MODIFIED:20260201T025238Z
UID:15182-1777392000-1777399200@mikawautd.com
SUMMARY:4月28日(火)BS/SS
DESCRIPTION:ボールスクール / サッカースクール \nボールスクール◽️◽️◽️BS\n時間：16:00〜16:45\n学年：幼児〜小学1年生\n曜日：火曜日 \nサッカースクール◽️◽️◽️SS\n時間：16:45〜18:00\n学年：小学1年生〜小学6年生\n曜日：火曜日・木曜日
URL:https://mikawautd.com/calendar/4%e6%9c%8828%e6%97%a5%e7%81%abbs-ss/
LOCATION:龍北サッカー場【FR】\, 真伝町亀山12-2\, 岡崎市\, 愛知県\, 444-3174
CATEGORIES:サッカースクール,ボールスクール
ORGANIZER;CN="iMA sport agent":MAILTO:ima.sportsagent@gmail.com
END:VEVENT
END:VCALENDAR